BEGIN:VCALENDAR
VERSION:2.0
PRODID:-//Portail de l&#039;IE - ECPv6.15.20//NONSGML v1.0//EN
CALSCALE:GREGORIAN
METHOD:PUBLISH
X-ORIGINAL-URL:https://www.portail-ie.fr
X-WR-CALDESC:Évènements pour Portail de l&#039;IE
REFRESH-INTERVAL;VALUE=DURATION:PT1H
X-Robots-Tag:noindex
X-PUBLISHED-TTL:PT1H
BEGIN:VTIMEZONE
TZID:Europe/Paris
BEGIN:DAYLIGHT
TZOFFSETFROM:+0100
TZOFFSETTO:+0200
TZNAME:CEST
DTSTART:20220327T010000
END:DAYLIGHT
BEGIN:STANDARD
TZOFFSETFROM:+0200
TZOFFSETTO:+0100
TZNAME:CET
DTSTART:20221030T010000
END:STANDARD
BEGIN:DAYLIGHT
TZOFFSETFROM:+0100
TZOFFSETTO:+0200
TZNAME:CEST
DTSTART:20230326T010000
END:DAYLIGHT
BEGIN:STANDARD
TZOFFSETFROM:+0200
TZOFFSETTO:+0100
TZNAME:CET
DTSTART:20231029T010000
END:STANDARD
BEGIN:DAYLIGHT
TZOFFSETFROM:+0100
TZOFFSETTO:+0200
TZNAME:CEST
DTSTART:20240331T010000
END:DAYLIGHT
BEGIN:STANDARD
TZOFFSETFROM:+0200
TZOFFSETTO:+0100
TZNAME:CET
DTSTART:20241027T010000
END:STANDARD
END:VTIMEZONE
BEGIN:VEVENT
DTSTART;TZID=Europe/Paris:20230509T140000
DTEND;TZID=Europe/Paris:20230509T170000
DTSTAMP:20260420T075843
CREATED:20230502T204726Z
LAST-MODIFIED:20230502T223044Z
UID:10000004-1683640800-1683651600@www.portail-ie.fr
SUMMARY:Géopolitique des ressources
DESCRIPTION:Cet évènement sera organisé autour de la présentation de deux ouvrages : \n\nLe numéro 188 de la revue Hérodote consacré à la Géopolitique des ressources naturelles\, et dirigé par Béatrice Giblin\, Professeure émérite et fondatrice de l’IFG. Ce numéro réunit une dizaine d’auteurs et autrices qui reviennent sur les enjeux géopolitiques liés à l’ensemble des ressources naturelles\, des énergies fossiles aux métaux indispensables à la transition énergétique\, en passant par la production de nouvelles protéines.\nLe nouveau livre de Teva Meyer\, Maître de conférence en géopolitique et géographie (Université de Haute-Alsace – Mulhouse) et docteur de l’IFG (2017) : Géopolitique du nucléaire – Pouvoir et puissance d’une industrie duale (2023).\n\nInscription gratuite et obligatoire
URL:https://www.portail-ie.fr/event/geopolitique-des-ressources/
LOCATION:Campus Condorcet\, Centre des colloques - auditorium - 150 Place du Front populaire\, Aubervilliers\, 93300
CATEGORIES:Conférence
END:VEVENT
BEGIN:VEVENT
DTSTART;TZID=Europe/Paris:20230510T140000
DTEND;TZID=Europe/Paris:20230510T153000
DTSTAMP:20260420T075843
CREATED:20230502T211544Z
LAST-MODIFIED:20230504T120655Z
UID:10000005-1683727200-1683732600@www.portail-ie.fr
SUMMARY:La stratégie d’exportation gazière russe à destination de l’UE en amont et en aval du 22 février 2022
DESCRIPTION:Autour de: \n\nDavid AMSELLEM\, cartographe\, docteur en géopolitique et co-fondateur du cabinet Cassini Conseil\nInès BOUACIDA\, chercheuse Climat-Energie à l’Institut du développement durable et des relations internationales (IDDRI)\nEmmanuel HACHE\, directeur scientifique de l’OSFME et directeur de recherche à l’Institut de relations internationales et stratégiques (IRIS)\nSami RAMDANI\, coordinateur principal de l’OSFME et chercheur à l’Institut de relations internationales et stratégiques (IRIS)\n\nAnimée par Julia TASSE\, directrice de recherche\, responsable du programme Climat\, Energie et Sécurité\, IRIS \nQuelles évolutions a-t-on pu constater concernant la stratégie d’exportation gazière russe à destination de l’Union européenne (UE) en amont et pendant l’invasion de l’Ukraine par la Fédération de Russie ? L’étude présentée lors de cet événement expose les multiples moyens utilisés par les Russes\, en particulier à travers l’entreprise Gazprom\, pour toujours plus limiter l’approvisionnement gazier des pays européens. Cette étude explore également les conséquences que cela a eu pour les États membres de l’UE concernés. Enfin\, y est mis en lumière la manière dont le gaz russe pourrait continuer de pénétrer le marché européen à travers des alternatives techniques\, comme le GNL\, ou contractuelles\, comme le hub turc. Une discussion suivra\, autour des enjeux de sécurité énergétique pour l’Europe et l’avenir de l’approvisionnement énergétique face à des considérations géopolitiques toujours plus pesantes.
URL:https://www.portail-ie.fr/event/strategie-dexportation-gaziere-russe-a-destination-de-lue/
LOCATION:En ligne
CATEGORIES:Conférence
END:VEVENT
BEGIN:VEVENT
DTSTART;TZID=Europe/Paris:20230511T183000
DTEND;TZID=Europe/Paris:20230511T200000
DTSTAMP:20260420T075843
CREATED:20230502T212314Z
LAST-MODIFIED:20230504T121027Z
UID:10000006-1683829800-1683835200@www.portail-ie.fr
SUMMARY:Géopolitique de l’accès aux médicaments : quels enseignements suite à l’épidémie du Covid-19 ?
DESCRIPTION:Autour de: \n\nThomas BOREL\, directeur des affaires scientifiques/responsabilité sociétale des entreprises\, Les entreprises du médicament (Leem)\nMaurice CASSIER\, chercheur\, CNRS\nNathalie ERNOULT\, directrice adjointe du département politique et plaidoyer de la campagne d’accès aux médicaments essentiels\, Médecins sans frontières et chercheuse et co-directrice de l’Observatoire de la santé\, IRIS\nPauline LONDEIX\, co-fondatrice de l’Observatoire de la transparence dans les politiques du médicament (OTMeds)\n\nAnimée par Jean-François CORTY\, médecin\, chercheur associé à l’IRIS \nL’épidémie de covid-19 a occasionné plus de six millions de morts dans le monde\, dont deux en Europe. Elle a révélé la vulnérabilité des systèmes de santé\, y compris ceux des pays les plus avancés en matière d’offre de soins. La France n’a pas échappé à cette réalité. Elle a vu sa souveraineté nationale d’accès aux médicaments bousculée : incapacité à produire un vaccin et exposition à des tensions d’approvisionnement toujours d’actualité sur certaines molécules. Pourtant\, les acteurs de la recherche ont su produire en un temps record des vaccins\, accentuant\, ainsi\, la fracture entre pays du « nord » solvables et ceux du « sud » qui ont su trouver\, malgré tout\, en la Chine et la Russie des partenaires salutaires flexibles (prix et capacité de production locale). Dans ces conditions\, quelle politique du médicament\, quel modèle d’innovation et de production défendre en France pour anticiper les risques de dépendance\, de pression financière et de rationnement ? Par ailleurs\, on questionnera la capacité des Etats à entretenir les démarches d’une diplomatie d’influence sanitaire alors même que les brevets les soumettent au bon vouloir des laboratoires pharmaceutiques en position de force. Il s’agira aussi d’interroger le rôle et les leviers du plaidoyer humanitaire pour porter à l’agenda international les médicaments comme bien commun pour l’humanité.
URL:https://www.portail-ie.fr/event/geopolitique-de-lacces-aux-medicaments-quels-enseignements-suite-a-lepidemie-du-covid-19/
LOCATION:En ligne
CATEGORIES:Conférence
END:VEVENT
BEGIN:VEVENT
DTSTART;TZID=Europe/Paris:20230517T190000
DTEND;TZID=Europe/Paris:20230517T210000
DTSTAMP:20260420T075843
CREATED:20230502T212835Z
LAST-MODIFIED:20230504T120320Z
UID:10000007-1684350000-1684357200@www.portail-ie.fr
SUMMARY:Stratégie et veille informationnelle dans la lutte contre les manipulations de l’information
DESCRIPTION:Dans un monde où les informations circulent à une vitesse vertigineuse et où les réseaux sociaux occupent une place prépondérante dans la diffusion de l’information\, il est de plus en plus difficile de distinguer les faits de la fiction. Les manipulations de l’information sont devenues un fléau qui menace la démocratie et la stabilité des sociétés. Les fake news\, les théories du complot et les discours de haine se répandent rapidement et peuvent avoir des conséquences graves sur les individus et les communautés. Face à ce constat\, la stratégie et la veille informationnelle sont des outils indispensables pour lutter contre ces manipulations. \nConférence accessible uniquement en présentiel (dans la limite des places disponibles) au format « Chatham House »
URL:https://www.portail-ie.fr/event/strategie-et-veille-informationnelle-dans-la-lutte-contre-les-manipulations-de-linformation/
LOCATION:Ecole de Guerre Economique\, 196 Rue de Grenelle\, Paris\, France
CATEGORIES:Conférence
END:VEVENT
BEGIN:VEVENT
DTSTART;TZID=Europe/Paris:20230525T180000
DTEND;TZID=Europe/Paris:20230525T180000
DTSTAMP:20260420T075843
CREATED:20230516T213554Z
LAST-MODIFIED:20230516T213554Z
UID:10000012-1685037600-1685037600@www.portail-ie.fr
SUMMARY:L'Afrique et la guerre économique : quels sont les leviers de puissance des pays africains?
DESCRIPTION:Animé par Valérie Houphouët Boigny\, Présidente du Club Afrique de l’AEGE\, et Coumba Dioukhané\, CEO de Global View\, cet événement offrira une plateforme unique pour explorer la complexité de la guerre économique mondiale\, et plus précisément\, comment les pays africains peuvent transformer cette dynamique en une stratégie de puissance. \nPlaces limitées à 30 participants
URL:https://www.portail-ie.fr/event/lafrique-et-la-guerre-economique-quels-sont-les-leviers-de-puissance-des-pays-africains/
CATEGORIES:Conférence
END:VEVENT
BEGIN:VEVENT
DTSTART;TZID=Europe/Paris:20230530T083000
DTEND;TZID=Europe/Paris:20230530T093000
DTSTAMP:20260420T075843
CREATED:20230520T141301Z
LAST-MODIFIED:20230520T141352Z
UID:10000013-1685435400-1685439000@www.portail-ie.fr
SUMMARY:LA DISSUASION OCÉANIQUE : QUELLES RETOMBÉES ÉCONOMIQUES ?
DESCRIPTION:Le conflit en Ukraine a remis en lumière le rôle de la dissuasion nucléaire. A l’heure de la discussion de la Loi de Programmation Militaire\, qui devrait prendre en compte l’évolution des menaces s’opérant sur notre pays mais également les contraintes financières qui s’imposent à notre nation\, ce webinaire permettra de présenter et de débattre à propos des retombées économiques des investissements relatifs à la dissuasion océanique. \nAfin de mieux faire connaître les enjeux économiques des activités de défense\, la Chaire Économie de défense – IHEDN vous propose “Les entretiens de l’ECODEF”. \nLe septième numéro de cette série de webinaires aura lieu le mardi 30 mai 2023 à 8h30. \nLA DISSUASION OCÉANIQUE :\nQUELLES RETOMBÉES ÉCONOMIQUES ?\n\n\n\n\n\n\n\n\n\n\n\n\n\n\n\n\n\n\nInscriptions ouvertes jusqu’au dimanche 28 mai 2023 \nA cette occasion\, la Chaire Économie de défense – IHEDN recevra : \n\n\n\n\n\n\n\n\n\n\n\n\nYves Moreau\nDirecteur commercial Défense d’ArianeGroup \n\n\n\n\n\n\n\n\n\n\n\n\n\n\n\n\n\nPaul Hérault\nChercheur associé à la Chaire Économie de défense – IHEDN\nChef de projet « Pilotage stratégique des ressources » à Naval Group \n\n\n\n\n\n\n\n\n\n\n\n\n\n\n\n\n\nOlivier Martin\nIngénieur général de l’armement (2S)\nPrésident du Comité de pilotage de la Chaire Économie de défense – IHEDN
URL:https://www.portail-ie.fr/event/la-dissuasion-oceanique-quelles-retombees-economiques/
CATEGORIES:Conférence
ATTACH;FMTTYPE=image/png:https://www.portail-ie.fr/wp-content/uploads/2023/05/entretiens-ECODEF.png
ORGANIZER;CN="Chaire %C3%89conomie de d%C3%A9fense %E2%80%93 IHEDN":MAILTO:chaire.ecodef@fdd-ihedn.fr
END:VEVENT
BEGIN:VEVENT
DTSTART;TZID=Europe/Paris:20230531T183000
DTEND;TZID=Europe/Paris:20230531T200000
DTSTAMP:20260420T075843
CREATED:20230511T232721Z
LAST-MODIFIED:20230511T232721Z
UID:10000009-1685557800-1685563200@www.portail-ie.fr
SUMMARY:La nouvelle guerre des monnaies : souveraineté monétaire\, cryptomonnaies et pouvoir des devises
DESCRIPTION:Crypto-monnaies\, crypto-actifs… ces actifs virtuels sont définis par l’Autorité des marchés financiers comme « des actifs numériques virtuels qui reposent sur la technologie de la blockchain à travers un registre décentralisé et un protocole informatique crypté ». \nSelon Bercy\, « sur le plan juridique\, une crypto-monnaie n’est pas une monnaie : elle ne dépend d’aucune institution\, ne bénéficie d’aucun cours légal dans aucun pays ce qui rend l’évaluation de sa valeur difficile et ne peut être épargnée donc constituer une valeur de réserve ». \nCréées et développées dans un espace virtuel (5023 monnaies électroniques en 2021) par des « miners »\, stockées dans un coffre-fort électronique\, elles échappent à la législation qui régit le marché monétaire et exposent les investisseurs à des risques multiples : piratage informatique\, création d’une bulle spéculative\, enfin blanchissement des capitaux. \nEn effet\, la crypto-sphère offre une échappatoire aux sanctions internationales car permet d’envisager des partenariats financiers dans un espace non-lié au dollar ou à l’euro. La cryptomonnaie est ainsi au cœur des négociations entre la Russie et l’Iran dès février 2023\, avec l’objectif de créer le stablecoin commun indexé sur le cours de l’or et non sur le dollar. \nSelon Christian de Boissieu\, à terme\, les deux systèmes vont coexister dans un double niveau\, concurrentiel et complémentaire. Cependant « face à l’essor et à la multiplication des cryptomonnaies\, les banques centrales\, avec la bénédiction des gouvernements\, ont réagi en annonçant le lancement de monnaies banques centrales\, donc publiques\, digitales ». \nInvité le 31 mai à 18h30 par la Commission Économie et Défense de l’AA-IHEDN\, Christian de Boissieu\, professeur émérite d’économie à l’Université Paris 1 Panthéon-Sorbonne\, vice-président du Cercle des Économistes\, interviendra sur le thème « La nouvelle guerre des monnaies : souveraineté monétaire\, cryptomonnaies et pouvoir des devises ».
URL:https://www.portail-ie.fr/event/la-nouvelle-guerre-des-monnaies-souverainete-monetaire-cryptomonnaies-et-pouvoir-des-devises/
LOCATION:Ecole Militaire – amphi Sabatier\, 5\, place Joffre\, Paris\, 75007
CATEGORIES:Conférence
END:VEVENT
END:VCALENDAR