BEGIN:VCALENDAR
VERSION:2.0
PRODID:-//Portail de l&#039;IE - ECPv6.15.20//NONSGML v1.0//EN
CALSCALE:GREGORIAN
METHOD:PUBLISH
X-ORIGINAL-URL:https://www.portail-ie.fr
X-WR-CALDESC:Évènements pour Portail de l&#039;IE
REFRESH-INTERVAL;VALUE=DURATION:PT1H
X-Robots-Tag:noindex
X-PUBLISHED-TTL:PT1H
BEGIN:VTIMEZONE
TZID:Europe/Paris
BEGIN:DAYLIGHT
TZOFFSETFROM:+0100
TZOFFSETTO:+0200
TZNAME:CEST
DTSTART:20230326T010000
END:DAYLIGHT
BEGIN:STANDARD
TZOFFSETFROM:+0200
TZOFFSETTO:+0100
TZNAME:CET
DTSTART:20231029T010000
END:STANDARD
BEGIN:DAYLIGHT
TZOFFSETFROM:+0100
TZOFFSETTO:+0200
TZNAME:CEST
DTSTART:20240331T010000
END:DAYLIGHT
BEGIN:STANDARD
TZOFFSETFROM:+0200
TZOFFSETTO:+0100
TZNAME:CET
DTSTART:20241027T010000
END:STANDARD
BEGIN:DAYLIGHT
TZOFFSETFROM:+0100
TZOFFSETTO:+0200
TZNAME:CEST
DTSTART:20250330T010000
END:DAYLIGHT
BEGIN:STANDARD
TZOFFSETFROM:+0200
TZOFFSETTO:+0100
TZNAME:CET
DTSTART:20251026T010000
END:STANDARD
END:VTIMEZONE
BEGIN:VEVENT
DTSTART;TZID=Europe/Paris:20240425T190000
DTEND;TZID=Europe/Paris:20240425T190000
DTSTAMP:20260419T172709
CREATED:20240328T082343Z
LAST-MODIFIED:20240328T082343Z
UID:10000032-1714071600-1714071600@www.portail-ie.fr
SUMMARY:Conférence de Viginum
DESCRIPTION:Conférence de Viginum\, le service technique et opérationnel de l’Etat chargé de la vigilance et de la protection contre les ingérences numériques étrangère rattaché au SGDSN. Rattaché au secrétariat général de la Défense et de la Sécurité nationale\, Viginum est au centre de cette conférence est proposée par l’association AAIE-IHEDN. \n  \nInscription gratuite et obligatoire
URL:https://www.portail-ie.fr/event/conference-de-viginum/
LOCATION:Ecole militaire\, Salle St Exupéry - 1 place Joffre\, Paris\, 75007
CATEGORIES:Conférence
END:VEVENT
END:VCALENDAR