BEGIN:VCALENDAR
VERSION:2.0
PRODID:-//Portail de l&#039;IE - ECPv6.15.20//NONSGML v1.0//EN
CALSCALE:GREGORIAN
METHOD:PUBLISH
X-WR-CALNAME:Portail de l&#039;IE
X-ORIGINAL-URL:https://www.portail-ie.fr
X-WR-CALDESC:Évènements pour Portail de l&#039;IE
REFRESH-INTERVAL;VALUE=DURATION:PT1H
X-Robots-Tag:noindex
X-PUBLISHED-TTL:PT1H
BEGIN:VTIMEZONE
TZID:Europe/Paris
BEGIN:DAYLIGHT
TZOFFSETFROM:+0100
TZOFFSETTO:+0200
TZNAME:CEST
DTSTART:20220327T010000
END:DAYLIGHT
BEGIN:STANDARD
TZOFFSETFROM:+0200
TZOFFSETTO:+0100
TZNAME:CET
DTSTART:20221030T010000
END:STANDARD
BEGIN:DAYLIGHT
TZOFFSETFROM:+0100
TZOFFSETTO:+0200
TZNAME:CEST
DTSTART:20230326T010000
END:DAYLIGHT
BEGIN:STANDARD
TZOFFSETFROM:+0200
TZOFFSETTO:+0100
TZNAME:CET
DTSTART:20231029T010000
END:STANDARD
BEGIN:DAYLIGHT
TZOFFSETFROM:+0100
TZOFFSETTO:+0200
TZNAME:CEST
DTSTART:20240331T010000
END:DAYLIGHT
BEGIN:STANDARD
TZOFFSETFROM:+0200
TZOFFSETTO:+0100
TZNAME:CET
DTSTART:20241027T010000
END:STANDARD
END:VTIMEZONE
BEGIN:VEVENT
DTSTART;TZID=Europe/Paris:20230511T183000
DTEND;TZID=Europe/Paris:20230511T200000
DTSTAMP:20260420T092531
CREATED:20230502T212314Z
LAST-MODIFIED:20230504T121027Z
UID:10000006-1683829800-1683835200@www.portail-ie.fr
SUMMARY:Géopolitique de l’accès aux médicaments : quels enseignements suite à l’épidémie du Covid-19 ?
DESCRIPTION:Autour de: \n\nThomas BOREL\, directeur des affaires scientifiques/responsabilité sociétale des entreprises\, Les entreprises du médicament (Leem)\nMaurice CASSIER\, chercheur\, CNRS\nNathalie ERNOULT\, directrice adjointe du département politique et plaidoyer de la campagne d’accès aux médicaments essentiels\, Médecins sans frontières et chercheuse et co-directrice de l’Observatoire de la santé\, IRIS\nPauline LONDEIX\, co-fondatrice de l’Observatoire de la transparence dans les politiques du médicament (OTMeds)\n\nAnimée par Jean-François CORTY\, médecin\, chercheur associé à l’IRIS \nL’épidémie de covid-19 a occasionné plus de six millions de morts dans le monde\, dont deux en Europe. Elle a révélé la vulnérabilité des systèmes de santé\, y compris ceux des pays les plus avancés en matière d’offre de soins. La France n’a pas échappé à cette réalité. Elle a vu sa souveraineté nationale d’accès aux médicaments bousculée : incapacité à produire un vaccin et exposition à des tensions d’approvisionnement toujours d’actualité sur certaines molécules. Pourtant\, les acteurs de la recherche ont su produire en un temps record des vaccins\, accentuant\, ainsi\, la fracture entre pays du « nord » solvables et ceux du « sud » qui ont su trouver\, malgré tout\, en la Chine et la Russie des partenaires salutaires flexibles (prix et capacité de production locale). Dans ces conditions\, quelle politique du médicament\, quel modèle d’innovation et de production défendre en France pour anticiper les risques de dépendance\, de pression financière et de rationnement ? Par ailleurs\, on questionnera la capacité des Etats à entretenir les démarches d’une diplomatie d’influence sanitaire alors même que les brevets les soumettent au bon vouloir des laboratoires pharmaceutiques en position de force. Il s’agira aussi d’interroger le rôle et les leviers du plaidoyer humanitaire pour porter à l’agenda international les médicaments comme bien commun pour l’humanité.
URL:https://www.portail-ie.fr/event/geopolitique-de-lacces-aux-medicaments-quels-enseignements-suite-a-lepidemie-du-covid-19/
LOCATION:En ligne
CATEGORIES:Conférence
END:VEVENT
END:VCALENDAR