BEGIN:VCALENDAR
VERSION:2.0
PRODID:-//Portail de l&#039;IE - ECPv6.15.20//NONSGML v1.0//EN
CALSCALE:GREGORIAN
METHOD:PUBLISH
X-WR-CALNAME:Portail de l&#039;IE
X-ORIGINAL-URL:https://www.portail-ie.fr
X-WR-CALDESC:Évènements pour Portail de l&#039;IE
REFRESH-INTERVAL;VALUE=DURATION:PT1H
X-Robots-Tag:noindex
X-PUBLISHED-TTL:PT1H
BEGIN:VTIMEZONE
TZID:Europe/Paris
BEGIN:DAYLIGHT
TZOFFSETFROM:+0100
TZOFFSETTO:+0200
TZNAME:CEST
DTSTART:20220327T010000
END:DAYLIGHT
BEGIN:STANDARD
TZOFFSETFROM:+0200
TZOFFSETTO:+0100
TZNAME:CET
DTSTART:20221030T010000
END:STANDARD
BEGIN:DAYLIGHT
TZOFFSETFROM:+0100
TZOFFSETTO:+0200
TZNAME:CEST
DTSTART:20230326T010000
END:DAYLIGHT
BEGIN:STANDARD
TZOFFSETFROM:+0200
TZOFFSETTO:+0100
TZNAME:CET
DTSTART:20231029T010000
END:STANDARD
BEGIN:DAYLIGHT
TZOFFSETFROM:+0100
TZOFFSETTO:+0200
TZNAME:CEST
DTSTART:20240331T010000
END:DAYLIGHT
BEGIN:STANDARD
TZOFFSETFROM:+0200
TZOFFSETTO:+0100
TZNAME:CET
DTSTART:20241027T010000
END:STANDARD
END:VTIMEZONE
BEGIN:VEVENT
DTSTART;TZID=Europe/Paris:20230613T190000
DTEND;TZID=Europe/Paris:20230613T210000
DTSTAMP:20260420T080028
CREATED:20230524T225749Z
LAST-MODIFIED:20230605T210519Z
UID:10000014-1686682800-1686690000@www.portail-ie.fr
SUMMARY:L'exportation du Rafale dans les pays d'Europe de l'Est
DESCRIPTION:À l’heure du conflit russo-ukrainien\, il existe un accroissement global du réarmement notamment dans les pays frontaliers tels que la Pologne.\nCes pays transfèrent une part importante de leur matériel datant de l’époque soviétique en soutien à l’Ukraine: le vide laissé par ces transferts d’équipements sera -t-il comblé par la France ? Qu’en est-il de la concurrence sur le marché de l’aviation de chasse dans ces pays de la part d’acteurs européens et américains ?\nXavier Tytelman\, consultant en aéronautique ainsi que Nicolas Ravailhe\, avocat spécialiste en stratégie européenne feront un point sur la situation actuelle et projetteront une vision prospective sur la situation postérieure à cette guerre.
URL:https://www.portail-ie.fr/event/lexportation-du-rafale-dans-les-pays-deurope-de-lest/
LOCATION:Ecole de Guerre Economique\, 196 Rue de Grenelle\, Paris\, France
CATEGORIES:Conférence
END:VEVENT
END:VCALENDAR