BEGIN:VCALENDAR
VERSION:2.0
PRODID:-//Portail de l&#039;IE - ECPv6.15.20//NONSGML v1.0//EN
CALSCALE:GREGORIAN
METHOD:PUBLISH
X-ORIGINAL-URL:https://www.portail-ie.fr
X-WR-CALDESC:Évènements pour Portail de l&#039;IE
REFRESH-INTERVAL;VALUE=DURATION:PT1H
X-Robots-Tag:noindex
X-PUBLISHED-TTL:PT1H
BEGIN:VTIMEZONE
TZID:Europe/Paris
BEGIN:DAYLIGHT
TZOFFSETFROM:+0100
TZOFFSETTO:+0200
TZNAME:CEST
DTSTART:20220327T010000
END:DAYLIGHT
BEGIN:STANDARD
TZOFFSETFROM:+0200
TZOFFSETTO:+0100
TZNAME:CET
DTSTART:20221030T010000
END:STANDARD
BEGIN:DAYLIGHT
TZOFFSETFROM:+0100
TZOFFSETTO:+0200
TZNAME:CEST
DTSTART:20230326T010000
END:DAYLIGHT
BEGIN:STANDARD
TZOFFSETFROM:+0200
TZOFFSETTO:+0100
TZNAME:CET
DTSTART:20231029T010000
END:STANDARD
BEGIN:DAYLIGHT
TZOFFSETFROM:+0100
TZOFFSETTO:+0200
TZNAME:CEST
DTSTART:20240331T010000
END:DAYLIGHT
BEGIN:STANDARD
TZOFFSETFROM:+0200
TZOFFSETTO:+0100
TZNAME:CET
DTSTART:20241027T010000
END:STANDARD
END:VTIMEZONE
BEGIN:VEVENT
DTSTART;TZID=Europe/Paris:20230706T143000
DTEND;TZID=Europe/Paris:20230706T181500
DTSTAMP:20260420T063445
CREATED:20230623T061928Z
LAST-MODIFIED:20230623T062341Z
UID:10000017-1688653800-1688667300@www.portail-ie.fr
SUMMARY:IA et géopolitique : entre compétition et coopération internationale
DESCRIPTION:Les récents développements de l’intelligence artificielle (IA)\, en particulier dans le domaine de l’IA générative\, ont renouvelé l’intérêt du grand public et des décideurs pour un champ considéré comme stratégique depuis plusieurs décennies. \n\n\n\n\n\n\n\n\n\n\n\n\nCes dernières années\, les avancées rapides des algorithmes d’apprentissage automatique et de la puissance de calcul ont déclenché une vague de capacités transformatrices\, soulevant des questions cruciales concernant la compétition mondiale\, la coopération et la régulation. Cela est particulièrement évident dans la rivalité croissante entre les Etats-Unis et la Chine\, qui déploient leurs politiques d’incitations et restrictions\, avec pour ambition de s’affirmer comme leaders dans la recherche et les applications de l’IA. Au-delà de ce duopole\, cette conférence vise également à explorer l’émergence de l’Europe et des puissances numériques moyennes comme acteurs influents du développement et de la régulation de l’IA. \nProgramme\nPanel 1 : Rivalité géopolitique et compétition mondiale dans l’IA (14h30-16h00)\nLa rivalité entre les États-Unis et la Chine alimente la compétition internationale en matière d’IA. Quels sont les progrès et les faiblesses des deux côtés ? Comment les plans d’appui et les restrictions affectent-ils les progrès technologiques aux États-Unis\, en Chine et au-delà ? Quelles sont les implications stratégiques pour la France et l’Europe ? \nModération : Mathilde VELLIET\, chercheuse au sein du programme Géopolitique des technologies\, Ifri \n\nRebecca ARCESATI\, analyste\, Mercator Institute for China Studies (MERICS)\nGregory ALLEN\, directeur du Centre Wadhwani pour l’IA et les technologies avancées\, Center for Strategic and International Studies (CSIS)\nSéverine ARSENE\, conseillère Asie\, Centre d’Analyse et de Prévision Stratégique (CAPS)\, Ministère français de l’Europe et des Affaires étrangères\n\nPause café \nKeynote (16h15-16h30)\nPanel 2 : Comment l’Europe et ses partenaires peuvent-ils façonner le développement et la régulation de l’IA ? (16h30-18h00)\nComment les modèles de réglementation de l’IA s’adaptent-ils aux développements technologiques et à la géopolitique ? Comment progresse la coopération internationale sur les normes ? Quels modèles d’IA centrés sur l’humain et/ou en science ouverte peuvent être promus ? \nModération : Alice PANNIER\, responsable du programme Géopolitique des technologies\, Ifri \n\nBenoit BERGERET\, directeur\, ESSEC Metalab pour les données\, la technologie et la société\nAlex ENGLER\, chercheur associé en études de gouvernance\, Brookings\nTrisha RAY\, directrice adjointe\, Centre pour la sécurité\, la stratégie et la technologie\, Observer Research Foundation (ORF\, New Delhi)\nMark SCOTT\, correspondant en chef sur les technologies\, Politico\n\nConférence en format hybride.
URL:https://www.portail-ie.fr/event/ia-et-geopolitique-entre-competition-et-cooperation-internationale/
LOCATION:IFRI\, 27 rue de la Procession\, Paris\, 75015
CATEGORIES:Conférence
END:VEVENT
END:VCALENDAR