BEGIN:VCALENDAR
VERSION:2.0
PRODID:-//Portail de l&#039;IE - ECPv6.15.20//NONSGML v1.0//EN
CALSCALE:GREGORIAN
METHOD:PUBLISH
X-WR-CALNAME:Portail de l&#039;IE
X-ORIGINAL-URL:https://www.portail-ie.fr
X-WR-CALDESC:Évènements pour Portail de l&#039;IE
REFRESH-INTERVAL;VALUE=DURATION:PT1H
X-Robots-Tag:noindex
X-PUBLISHED-TTL:PT1H
BEGIN:VTIMEZONE
TZID:Europe/Paris
BEGIN:DAYLIGHT
TZOFFSETFROM:+0100
TZOFFSETTO:+0200
TZNAME:CEST
DTSTART:20220327T010000
END:DAYLIGHT
BEGIN:STANDARD
TZOFFSETFROM:+0200
TZOFFSETTO:+0100
TZNAME:CET
DTSTART:20221030T010000
END:STANDARD
BEGIN:DAYLIGHT
TZOFFSETFROM:+0100
TZOFFSETTO:+0200
TZNAME:CEST
DTSTART:20230326T010000
END:DAYLIGHT
BEGIN:STANDARD
TZOFFSETFROM:+0200
TZOFFSETTO:+0100
TZNAME:CET
DTSTART:20231029T010000
END:STANDARD
BEGIN:DAYLIGHT
TZOFFSETFROM:+0100
TZOFFSETTO:+0200
TZNAME:CEST
DTSTART:20240331T010000
END:DAYLIGHT
BEGIN:STANDARD
TZOFFSETFROM:+0200
TZOFFSETTO:+0100
TZNAME:CET
DTSTART:20241027T010000
END:STANDARD
END:VTIMEZONE
BEGIN:VEVENT
DTSTART;TZID=Europe/Paris:20231205T180000
DTEND;TZID=Europe/Paris:20231205T213000
DTSTAMP:20260420T011857
CREATED:20231129T160047Z
LAST-MODIFIED:20231129T160047Z
UID:10000021-1701799200-1701811800@www.portail-ie.fr
SUMMARY:Rencontre proposée par Veille Connect
DESCRIPTION:La plateforme de veille stratégique Sindup organise une conférence autour des nouveaux enjeux de la veille\, présentée par des journalistes\, documentalistes\, chargés de veille et analystes. Les évolutions de la veille seront abordées à travers trois secteurs bouleversant l’accès à l’information : \n\nL’IA générative bouleverse le monde de l’information\, évoqué par Stéphane Amarsy\, auteur de “Mon directeur marketing sera un algorithme” et fondateur de The Next Mind\, startup qui aide les entreprises à être résilientes dans un contexte de disruption\,\nComment transposer l’économie circulaire au marché de l’information\, développé par Benjamin Mathieu journaliste\, grand reporter à Radio France\, co-fondateur de « Le Moment »\, média collaboratif et citoyen\, Patrick Busquet\, président d’Information pour le Monde Suivant (IMS) et Emmanuel-Juste Duits\, philosophe\, auteur de “Doper son esprit critique” et cofondateur de Wikidébats.\nLa veille régénératrice pour bifurquer vers l’entreprise de demain\, par Nathalie Boyer\, ambassadrice de l’économie circulaire auprès du Ministère de la transition écologique\, vice-présidente du Conseil National de l’économie circulaire et Déléguée générale de l’association ORÉE\, Marion Janiot\, fondatrice d’Organisations Vivantes et Marie Frizot\, head of business chez Sindup\, qui accompagne de nombreuses organisations dans le déploiement de leur veille collaborative.\n\n  \nInscription sur le site de l’événement
URL:https://www.portail-ie.fr/event/rencontre-proposee-par-veille-connect/
CATEGORIES:Conférence
END:VEVENT
END:VCALENDAR