BEGIN:VCALENDAR
VERSION:2.0
PRODID:-//Portail de l&#039;IE - ECPv6.15.20//NONSGML v1.0//EN
CALSCALE:GREGORIAN
METHOD:PUBLISH
X-ORIGINAL-URL:https://www.portail-ie.fr
X-WR-CALDESC:Évènements pour Portail de l&#039;IE
REFRESH-INTERVAL;VALUE=DURATION:PT1H
X-Robots-Tag:noindex
X-PUBLISHED-TTL:PT1H
BEGIN:VTIMEZONE
TZID:Europe/Paris
BEGIN:DAYLIGHT
TZOFFSETFROM:+0100
TZOFFSETTO:+0200
TZNAME:CEST
DTSTART:20220327T010000
END:DAYLIGHT
BEGIN:STANDARD
TZOFFSETFROM:+0200
TZOFFSETTO:+0100
TZNAME:CET
DTSTART:20221030T010000
END:STANDARD
BEGIN:DAYLIGHT
TZOFFSETFROM:+0100
TZOFFSETTO:+0200
TZNAME:CEST
DTSTART:20230326T010000
END:DAYLIGHT
BEGIN:STANDARD
TZOFFSETFROM:+0200
TZOFFSETTO:+0100
TZNAME:CET
DTSTART:20231029T010000
END:STANDARD
BEGIN:DAYLIGHT
TZOFFSETFROM:+0100
TZOFFSETTO:+0200
TZNAME:CEST
DTSTART:20240331T010000
END:DAYLIGHT
BEGIN:STANDARD
TZOFFSETFROM:+0200
TZOFFSETTO:+0100
TZNAME:CET
DTSTART:20241027T010000
END:STANDARD
END:VTIMEZONE
BEGIN:VEVENT
DTSTART;TZID=Europe/Paris:20231211T183000
DTEND;TZID=Europe/Paris:20231211T183000
DTSTAMP:20260420T001146
CREATED:20231114T085931Z
LAST-MODIFIED:20231114T085931Z
UID:10000019-1702319400-1702319400@www.portail-ie.fr
SUMMARY:La dissuasion nucléaire française et sa doctrine
DESCRIPTION:Le Club Défense de l’AEGE organise une conférence sur le thème de la dissuasion nucléaire française et sa doctrine. Deux officiers de l’Ecole de Guerre seront présents pour nous partager leurs connaissances sur la doctrine française à ce sujet. \nDans le contexte géopolitique actuel\, la dissuasion nucléaire est centrale : l’intimidation nucléaire russe dans la guerre en Ukraine ou encore les capacités militaires nucléaires d’Israël sont des déterminants majeurs dans les conflits actuels. La France\, quant à elle réserve une place capitale à la modernisation de sa dissuasion nucléaire dans la Loi de Programmation Militaire 2024-2030 (LPM). \n 
URL:https://www.portail-ie.fr/event/la-dissuasion-nucleaire-francaise-et-sa-doctrine/
LOCATION:Ecole de Guerre Economique\, 196 Rue de Grenelle\, Paris\, France
CATEGORIES:Conférence
ATTACH;FMTTYPE=image/jpeg:https://www.portail-ie.fr/wp-content/uploads/2023/11/conf-defense.jpg
END:VEVENT
BEGIN:VEVENT
DTSTART;TZID=Europe/Paris:20231211T190000
DTEND;TZID=Europe/Paris:20231211T200000
DTSTAMP:20260420T001146
CREATED:20231129T161616Z
LAST-MODIFIED:20231129T161616Z
UID:10000022-1702321200-1702324800@www.portail-ie.fr
SUMMARY:Les nouvelles batailles autour de l’Intelligence Artificielle
DESCRIPTION:L’actualité récente est riche d’informations sur les batailles autour de l’Intelligence Artificielle. Il n’est pas facile de mesurer les enjeux actuels ! C’est pourquoi le Club IES – Inter-ligere et l’association Sorbonne Competitive Intelligence & Strategy\, liée au master S2IE organisent une conférence-débat en partenariat avec Cybernetica. Dans le cadre de cette conférence Tariq Krim\, le fondateur de Netvibes\, de Jolicloud et de Polite\, récompensé par de nombreux prix\, tentera de répondre à ces trois questions: \n\nQuel avenir pour la souveraineté numérique ?\nQuelles batailles géopolitiques autour de l’IA ?\nQuels scénarios pour un avenir numérique souhaitable ?\n\nInscription obligatoire sur le site de l’événement.
URL:https://www.portail-ie.fr/event/les-nouvelles-batailles-autour-de-lintelligence-artificielle/
LOCATION:La Sorbonne\, 17 rue de la Sorbonne\, Paris\, 75005
CATEGORIES:Conférence
END:VEVENT
END:VCALENDAR