BEGIN:VCALENDAR
VERSION:2.0
PRODID:-//Portail de l&#039;IE - ECPv6.15.20//NONSGML v1.0//EN
CALSCALE:GREGORIAN
METHOD:PUBLISH
X-ORIGINAL-URL:https://www.portail-ie.fr
X-WR-CALDESC:Évènements pour Portail de l&#039;IE
REFRESH-INTERVAL;VALUE=DURATION:PT1H
X-Robots-Tag:noindex
X-PUBLISHED-TTL:PT1H
BEGIN:VTIMEZONE
TZID:Europe/Paris
BEGIN:DAYLIGHT
TZOFFSETFROM:+0100
TZOFFSETTO:+0200
TZNAME:CEST
DTSTART:20230326T010000
END:DAYLIGHT
BEGIN:STANDARD
TZOFFSETFROM:+0200
TZOFFSETTO:+0100
TZNAME:CET
DTSTART:20231029T010000
END:STANDARD
BEGIN:DAYLIGHT
TZOFFSETFROM:+0100
TZOFFSETTO:+0200
TZNAME:CEST
DTSTART:20240331T010000
END:DAYLIGHT
BEGIN:STANDARD
TZOFFSETFROM:+0200
TZOFFSETTO:+0100
TZNAME:CET
DTSTART:20241027T010000
END:STANDARD
BEGIN:DAYLIGHT
TZOFFSETFROM:+0100
TZOFFSETTO:+0200
TZNAME:CEST
DTSTART:20250330T010000
END:DAYLIGHT
BEGIN:STANDARD
TZOFFSETFROM:+0200
TZOFFSETTO:+0100
TZNAME:CET
DTSTART:20251026T010000
END:STANDARD
END:VTIMEZONE
BEGIN:VEVENT
DTSTART;TZID=Europe/Paris:20240124T183000
DTEND;TZID=Europe/Paris:20240124T183000
DTSTAMP:20260419T225339
CREATED:20240119T083957Z
LAST-MODIFIED:20240119T114058Z
UID:10000027-1706121000-1706121000@www.portail-ie.fr
SUMMARY:Que retenir des dernières élections présidentielles à Taïwan ? Quelles projections pour les quatre années à venir ?
DESCRIPTION:Le comité d’études Asie-Pacifique des Jeunes IHEDN et le club Asie de l’EGE vous convient à la conférence « Entre taïwanisation de la société et équilibrisme avec la Chine\, que retenir des dernières élections présidentielles taïwanaises et quelles projections pour les quatre années à venir ? »  \nLe 13 janvier dernier s’est tenue une élection présidentielle à Taïwan\, marquée par la victoire du candidat du Parti démocratique progressiste (DPP) et ancien vice-président Lai Ching-Te\, ayant obtenu plus de 40% des suffrages. Sous le signe d’une relation conflictuelle entre Pékin et Taipei\, la majorité progressiste au Yuan législatif devra composer avec les deux autres principales tendances politiques taiwanaises (Kuomintang et Parti Populaire Taiwanais)\, venant ainsi former un jeu tripartite. Mêlant enjeux politiques et sécuritaires\, comprendre l’issue de ces élections est essentiel pour envisager le futur de l’île. \n  \n🤝 Les intervenants qui débattront du sujet sont des experts reconnus de la région Asie-Pacifique : \n🔵 Stéphane Corcuff : sinologue\, maître de conférence en politique du monde chinois contemporain. A dirigé l’antenne Taipei du CEFC de 2013 à 2017. Il travaille notamment sur la géopolitique des relations Chine – Taïwan. \n🔵 Alexandre Gandil : chercheur associé au CERI\, spécialiste de la taïwanisation de la République de Chine\, notamment aux îles Matsu et Kinmen. \n🔵 Arnaud Vaulerin : journaliste à Libération. Correspondant au Japon pendant plusieurs années. Son troisième livre\, « Taïwan\, la Présidente et la guerre » (Novice\, 2023) traite des enjeux de la menace chinoise sur Formose. \nATTENTION nombre de places limitées\, inscrivez-vous rapidement ici (c’est gratuit). \n 
URL:https://www.portail-ie.fr/event/que-retenir-des-dernieres-elections-presidentielles-a-taiwan-quelles-projections-pour-les-quatre-annees-a-venir/
LOCATION:Ecole de Guerre Economique\, 196 Rue de Grenelle\, Paris\, France
CATEGORIES:Conférence
ATTACH;FMTTYPE=image/png:https://www.portail-ie.fr/wp-content/uploads/2024/01/elections-Taiwan.png
ORGANIZER;CN="Comit%C3%A9 Asie-Pacifique Jeunes IHEDN":MAILTO:asie-pacifique@jeunes-ihedn.org
END:VEVENT
BEGIN:VEVENT
DTSTART;TZID=Europe/Paris:20240124T190000
DTEND;TZID=Europe/Paris:20240124T190000
DTSTAMP:20260419T225339
CREATED:20240112T111932Z
LAST-MODIFIED:20240112T111932Z
UID:10000023-1706122800-1706122800@www.portail-ie.fr
SUMMARY:Le Commandement de La cyberdéfense (COMCYBER) : nouveaux enjeux stratégiques\, missions et défis
DESCRIPTION:Cette conférence organisée par CITOY.ENS en partenariat avec HackademINT et l’ACCIS\, sera assurée par le Général Bonnemaison\, qui est actuellement à la tête du Commandement de la cyberdéfense (COMCYBER). \nLe COMCYBER rassemble l’ensemble des forces de cyberdéfense du ministère des Armées. Il a pour mission la défense des systèmes d’information – dont les systèmes d’armes\, ainsi que la conception\, la planification et la conduite des opérations militaires dans le cyberespace. \nInscription gratuite et obligatoire.
URL:https://www.portail-ie.fr/event/le-commandement-de-la-cyberdefense-comcyber-nouveaux-enjeux-strategiques-missions-et-defis/
LOCATION:ENS – Amphithéâtre Daniel Cohen\, Campus Jourdan\, 48 bd Jourdan\, Paris\, 75014\, France
CATEGORIES:Conférence
ATTACH;FMTTYPE=image/png:https://www.portail-ie.fr/wp-content/uploads/2024/01/comcyber.png
END:VEVENT
END:VCALENDAR