BEGIN:VCALENDAR
VERSION:2.0
PRODID:-//Portail de l&#039;IE - ECPv6.15.20//NONSGML v1.0//EN
CALSCALE:GREGORIAN
METHOD:PUBLISH
X-ORIGINAL-URL:https://www.portail-ie.fr
X-WR-CALDESC:Évènements pour Portail de l&#039;IE
REFRESH-INTERVAL;VALUE=DURATION:PT1H
X-Robots-Tag:noindex
X-PUBLISHED-TTL:PT1H
BEGIN:VTIMEZONE
TZID:Europe/Paris
BEGIN:DAYLIGHT
TZOFFSETFROM:+0100
TZOFFSETTO:+0200
TZNAME:CEST
DTSTART:20230326T010000
END:DAYLIGHT
BEGIN:STANDARD
TZOFFSETFROM:+0200
TZOFFSETTO:+0100
TZNAME:CET
DTSTART:20231029T010000
END:STANDARD
BEGIN:DAYLIGHT
TZOFFSETFROM:+0100
TZOFFSETTO:+0200
TZNAME:CEST
DTSTART:20240331T010000
END:DAYLIGHT
BEGIN:STANDARD
TZOFFSETFROM:+0200
TZOFFSETTO:+0100
TZNAME:CET
DTSTART:20241027T010000
END:STANDARD
BEGIN:DAYLIGHT
TZOFFSETFROM:+0100
TZOFFSETTO:+0200
TZNAME:CEST
DTSTART:20250330T010000
END:DAYLIGHT
BEGIN:STANDARD
TZOFFSETFROM:+0200
TZOFFSETTO:+0100
TZNAME:CET
DTSTART:20251026T010000
END:STANDARD
END:VTIMEZONE
BEGIN:VEVENT
DTSTART;TZID=Europe/Paris:20240129T193000
DTEND;TZID=Europe/Paris:20240129T210000
DTSTAMP:20260419T210947
CREATED:20240116T083458Z
LAST-MODIFIED:20240116T083512Z
UID:10000025-1706556600-1706562000@www.portail-ie.fr
SUMMARY:La désinformation au cœur des conflits
DESCRIPTION:Les guerres se jouent sur le champ de bataille\, sur le plan économique\, mais aussi dans le domaine de l’information. Conflits au Proche-Orient ou en Ukraine\, multiplication des coups d’Etat au Sahel et en Afrique\, ou encore tentatives d’ingérence par des puissances étrangères : la manipulation des faits est devenue une pratique courante par un certain nombre d’acteurs géopolitiques. \nSi personne n’est à l’abri de la désinformation\, en particulier sur les réseaux sociaux qui leur servent de caisse de résonance\, les progrès des intelligences artificielles ne font qu’accroître les risques en la matière. Comprendre les ressorts de cette nouvelle guerre peut permettre de mieux anticiper les risques. \nAvec : \n\nChristine Dugoin-Clément\, chercheuse à la chaire Risques de l’IAE Paris-Sorbonne et à l’Observatoire de l’Intelligence Artificielle de Paris 1 Panthéon-Sorbonne\nChine Labbé\, journaliste\, rédactrice en chef & vice-présidente chargée des partenariats\, Europe et Canada de NewsGuard\nChristophe Lemoine\, directeur adjoint de la communication\, de la presse\, et du porte-parole du ministère des Affaires étrangères et européennes\nJulien Nocetti\, chercheur associé du centre Russie/Eurasie et du programme Géopolitique des technologies de l’Institut français des relations internationales (IFRI)\n\n\nInscription gratuite et obligatoire.
URL:https://www.portail-ie.fr/event/la-desinformation-au-coeur-des-conflits/
LOCATION:Ecole militaire\, Salle St Exupéry - 1 place Joffre\, Paris\, 75007
CATEGORIES:Conférence
ATTACH;FMTTYPE=image/jpeg:https://www.portail-ie.fr/wp-content/uploads/2024/01/desinformation-jpg.webp
END:VEVENT
END:VCALENDAR