BEGIN:VCALENDAR
VERSION:2.0
PRODID:-//Portail de l&#039;IE - ECPv6.15.20//NONSGML v1.0//EN
CALSCALE:GREGORIAN
METHOD:PUBLISH
X-ORIGINAL-URL:https://www.portail-ie.fr
X-WR-CALDESC:Évènements pour Portail de l&#039;IE
REFRESH-INTERVAL;VALUE=DURATION:PT1H
X-Robots-Tag:noindex
X-PUBLISHED-TTL:PT1H
BEGIN:VTIMEZONE
TZID:Europe/Paris
BEGIN:DAYLIGHT
TZOFFSETFROM:+0100
TZOFFSETTO:+0200
TZNAME:CEST
DTSTART:20230326T010000
END:DAYLIGHT
BEGIN:STANDARD
TZOFFSETFROM:+0200
TZOFFSETTO:+0100
TZNAME:CET
DTSTART:20231029T010000
END:STANDARD
BEGIN:DAYLIGHT
TZOFFSETFROM:+0100
TZOFFSETTO:+0200
TZNAME:CEST
DTSTART:20240331T010000
END:DAYLIGHT
BEGIN:STANDARD
TZOFFSETFROM:+0200
TZOFFSETTO:+0100
TZNAME:CET
DTSTART:20241027T010000
END:STANDARD
BEGIN:DAYLIGHT
TZOFFSETFROM:+0100
TZOFFSETTO:+0200
TZNAME:CEST
DTSTART:20250330T010000
END:DAYLIGHT
BEGIN:STANDARD
TZOFFSETFROM:+0200
TZOFFSETTO:+0100
TZNAME:CET
DTSTART:20251026T010000
END:STANDARD
END:VTIMEZONE
BEGIN:VEVENT
DTSTART;TZID=Europe/Paris:20240325T183000
DTEND;TZID=Europe/Paris:20240325T183000
DTSTAMP:20260419T200209
CREATED:20240312T152517Z
LAST-MODIFIED:20240312T152629Z
UID:10000031-1711391400-1711391400@www.portail-ie.fr
SUMMARY:La conférence de Mars du Cell'IE
DESCRIPTION:L’association CELL’IE organise une conférence sur les ingérences étrangères\, qui s’appuiera notamment sur le dernier rapport de la délégation parlementaire au renseignement dans lequel la fragilité de la France concernant les questions d’influence\, d’espionnages industriels et de cybersécurité est dénoncée. La conférence reposera sur l’intervention de six experts en IE\, spécialistes des questions de cybersécurité ou protection des innovations technologiques. \nLors de cette conférence\, nous aborderons le sujet des ingérences étrangères que nous articulerons autour de 2 thèmes : La technologie et la Cybersécurité : \n–            Terry ZIMMER\, Chef de mission contre ingérence et influence\n–            Henri Bois\, Délégué régional du DISSE\n–            Paul Morin\, Président de l’AR-18-IHEDN\n–            Yannick PECH – PhD\, Docteur en science de l’information et de la communication\n–            Marc Parenthoën\, Docteur en informatique\n–            Jean-Michel LATHIERE \, Délégué à la Protection des Données \n  \nInscription vivement conseillée !
URL:https://www.portail-ie.fr/event/la-conference-de-mars-du-cellie/
LOCATION:IAE de Poitiers\, 20 Rue Guillaume 7 le Troubadour\, Poitiers\, 86000
CATEGORIES:Conférence
ATTACH;FMTTYPE=image/jpeg:https://www.portail-ie.fr/wp-content/uploads/2024/03/conference-de-mars-jpg.webp
END:VEVENT
END:VCALENDAR