BEGIN:VCALENDAR
VERSION:2.0
PRODID:-//Portail de l&#039;IE - ECPv6.15.20//NONSGML v1.0//EN
CALSCALE:GREGORIAN
METHOD:PUBLISH
X-WR-CALNAME:Portail de l&#039;IE
X-ORIGINAL-URL:https://www.portail-ie.fr
X-WR-CALDESC:Évènements pour Portail de l&#039;IE
REFRESH-INTERVAL;VALUE=DURATION:PT1H
X-Robots-Tag:noindex
X-PUBLISHED-TTL:PT1H
BEGIN:VTIMEZONE
TZID:Europe/Paris
BEGIN:DAYLIGHT
TZOFFSETFROM:+0100
TZOFFSETTO:+0200
TZNAME:CEST
DTSTART:20230326T010000
END:DAYLIGHT
BEGIN:STANDARD
TZOFFSETFROM:+0200
TZOFFSETTO:+0100
TZNAME:CET
DTSTART:20231029T010000
END:STANDARD
BEGIN:DAYLIGHT
TZOFFSETFROM:+0100
TZOFFSETTO:+0200
TZNAME:CEST
DTSTART:20240331T010000
END:DAYLIGHT
BEGIN:STANDARD
TZOFFSETFROM:+0200
TZOFFSETTO:+0100
TZNAME:CET
DTSTART:20241027T010000
END:STANDARD
BEGIN:DAYLIGHT
TZOFFSETFROM:+0100
TZOFFSETTO:+0200
TZNAME:CEST
DTSTART:20250330T010000
END:DAYLIGHT
BEGIN:STANDARD
TZOFFSETFROM:+0200
TZOFFSETTO:+0100
TZNAME:CET
DTSTART:20251026T010000
END:STANDARD
END:VTIMEZONE
BEGIN:VEVENT
DTSTART;TZID=Europe/Paris:20240328T190000
DTEND;TZID=Europe/Paris:20240328T190000
DTSTAMP:20260419T195411
CREATED:20240126T143803Z
LAST-MODIFIED:20240126T143803Z
UID:10000029-1711652400-1711652400@www.portail-ie.fr
SUMMARY:L'intelligence économique avec le SISSE
DESCRIPTION:L’association AAIE-IHEDN organise une conférence sur l’intelligence économique\, présentée par le SISSE. \nLe Service de l’information stratégique et de la sécurité économiques (SISSE) est un service à compétence nationale rattaché à la Direction générale des entreprises du ministère de l’Économie et des Finances français depuis 2016. Il a notamment pour mission de piloter au niveau interministériel la politique de sécurité et d’intelligence économique de la France. \n  \nInscription gratuite et obligatoire.
URL:https://www.portail-ie.fr/event/lintelligence-economique-avec-le-sisse/
LOCATION:Ecole militaire\, Salle St Exupéry - 1 place Joffre\, Paris\, 75007
CATEGORIES:Conférence
ATTACH;FMTTYPE=image/png:https://www.portail-ie.fr/wp-content/uploads/2024/01/sisse.png
END:VEVENT
END:VCALENDAR